BEGIN:VCALENDAR
VERSION:2.0
PRODID:-//Gemeinschaftsschule M&uuml;hlacker - ECPv6.15.20//NONSGML v1.0//EN
CALSCALE:GREGORIAN
METHOD:PUBLISH
X-ORIGINAL-URL:https://gmsmuehlacker.de
X-WR-CALDESC:Veranstaltungen für Gemeinschaftsschule M&uuml;hlacker
REFRESH-INTERVAL;VALUE=DURATION:PT1H
X-Robots-Tag:noindex
X-PUBLISHED-TTL:PT1H
BEGIN:VTIMEZONE
TZID:UTC
BEGIN:STANDARD
TZOFFSETFROM:+0000
TZOFFSETTO:+0000
TZNAME:UTC
DTSTART:20250101T000000
END:STANDARD
END:VTIMEZONE
BEGIN:VEVENT
DTSTART;TZID=UTC:20260713T000000
DTEND;TZID=UTC:20260713T235959
DTSTAMP:20260422T114307
CREATED:20260318T060505Z
LAST-MODIFIED:20260318T060505Z
UID:679-1783900800-1783987199@gmsmuehlacker.de
SUMMARY:Bundesjugendspiele Sekundarstufe
DESCRIPTION:Für die Klassen 5-10 im Käppele-Stadion
URL:https://gmsmuehlacker.de/event/bundesjugendspiele-sekundarstufe/
END:VEVENT
END:VCALENDAR