BEGIN:VCALENDAR
VERSION:2.0
PRODID:-//Gemeinschaftsschule M&uuml;hlacker - ECPv6.15.20//NONSGML v1.0//EN
CALSCALE:GREGORIAN
METHOD:PUBLISH
X-WR-CALNAME:Gemeinschaftsschule M&uuml;hlacker
X-ORIGINAL-URL:https://gmsmuehlacker.de
X-WR-CALDESC:Veranstaltungen für Gemeinschaftsschule M&uuml;hlacker
REFRESH-INTERVAL;VALUE=DURATION:PT1H
X-Robots-Tag:noindex
X-PUBLISHED-TTL:PT1H
BEGIN:VTIMEZONE
TZID:UTC
BEGIN:STANDARD
TZOFFSETFROM:+0000
TZOFFSETTO:+0000
TZNAME:UTC
DTSTART:20250101T000000
END:STANDARD
END:VTIMEZONE
BEGIN:VEVENT
DTSTART;TZID=UTC:20260421T000000
DTEND;TZID=UTC:20260424T235959
DTSTAMP:20260422T120054
CREATED:20260421T074157Z
LAST-MODIFIED:20260421T074257Z
UID:727-1776729600-1777075199@gmsmuehlacker.de
SUMMARY:Abschlussfahrt München Klasse 9
DESCRIPTION:
URL:https://gmsmuehlacker.de/event/abschlussfahrt-muenchen-klasse-9/
END:VEVENT
BEGIN:VEVENT
DTSTART;TZID=UTC:20260423T000000
DTEND;TZID=UTC:20260423T235959
DTSTAMP:20260422T120054
CREATED:20260421T074410Z
LAST-MODIFIED:20260421T074410Z
UID:729-1776902400-1776988799@gmsmuehlacker.de
SUMMARY:Girls'Day und Boys'Day
DESCRIPTION:
URL:https://gmsmuehlacker.de/event/girlsday-und-boysday/
END:VEVENT
END:VCALENDAR